BEGIN:VCALENDAR
VERSION:2.0
PRODID:-//La Tribu Co_Working - ECPv6.15.20//NONSGML v1.0//EN
CALSCALE:GREGORIAN
METHOD:PUBLISH
X-ORIGINAL-URL:https://www.latribucw.fr
X-WR-CALDESC:Évènements pour La Tribu Co_Working
REFRESH-INTERVAL;VALUE=DURATION:PT1H
X-Robots-Tag:noindex
X-PUBLISHED-TTL:PT1H
BEGIN:VTIMEZONE
TZID:Europe/Paris
BEGIN:DAYLIGHT
TZOFFSETFROM:+0100
TZOFFSETTO:+0200
TZNAME:CEST
DTSTART:20230326T010000
END:DAYLIGHT
BEGIN:STANDARD
TZOFFSETFROM:+0200
TZOFFSETTO:+0100
TZNAME:CET
DTSTART:20231029T010000
END:STANDARD
BEGIN:DAYLIGHT
TZOFFSETFROM:+0100
TZOFFSETTO:+0200
TZNAME:CEST
DTSTART:20240331T010000
END:DAYLIGHT
BEGIN:STANDARD
TZOFFSETFROM:+0200
TZOFFSETTO:+0100
TZNAME:CET
DTSTART:20241027T010000
END:STANDARD
BEGIN:DAYLIGHT
TZOFFSETFROM:+0100
TZOFFSETTO:+0200
TZNAME:CEST
DTSTART:20250330T010000
END:DAYLIGHT
BEGIN:STANDARD
TZOFFSETFROM:+0200
TZOFFSETTO:+0100
TZNAME:CET
DTSTART:20251026T010000
END:STANDARD
END:VTIMEZONE
BEGIN:VEVENT
DTSTART;TZID=Europe/Paris:20240122T093000
DTEND;TZID=Europe/Paris:20240122T120000
DTSTAMP:20260423T210635
CREATED:20230915T135014Z
LAST-MODIFIED:20230915T135014Z
UID:1495-1705915800-1705924800@www.latribucw.fr
SUMMARY:ATELIER UP - Mon bilan
DESCRIPTION:Recueillir et mesurer les fruits de mes actions;\nIdentifier les axes d’amélioration !\n\n\nL’Atelier Up\, c’est aussi rencontrer d’autres porteurs de projets et entrepreneurs avec qui échanger expériences\, bonnes pratiques\, anecdotes pour « être » en prenant soin de notre énergie; c’est aussi un moment de découverte et d’apprentissage par le « faire » pour soutenir le démarrage et le développement de notre activité pour « avoir » les résultats à la hauteur de nos rêves… « Être » pour « faire » et « avoir » est le fil d’or des Ateliers Up au service d’un entreprenariat responsable\, créatif\, agile\, coopératif et engagé !
URL:https://www.latribucw.fr/event/atelier-up-mon-bilan/
LOCATION:La Tribu Co_Working\, 10 rue du Dr Leroy\, Le Mans\, 72000\, France
CATEGORIES:Atelier Up
ORGANIZER;CN="Isabelle Roncin":MAILTO:latribucw@gmail.com
END:VEVENT
END:VCALENDAR